BEGIN:VCALENDAR
VERSION:2.0
PRODID:-//PYVOBJECT//NONSGML Version 0.9.9//EN
BEGIN:VTIMEZONE
TZID:CET
BEGIN:STANDARD
DTSTART:20001029T040000
RRULE:FREQ=YEARLY;BYDAY=-1SU;BYMONTH=10
TZNAME:CET
TZOFFSETFROM:+0200
TZOFFSETTO:+0100
END:STANDARD
BEGIN:DAYLIGHT
DTSTART:20000326T030000
RRULE:FREQ=YEARLY;BYDAY=-1SU;BYMONTH=3
TZNAME:CEST
TZOFFSETFROM:+0100
TZOFFSETTO:+0200
END:DAYLIGHT
END:VTIMEZONE
BEGIN:VEVENT
UID:event-22
DTSTART;TZID=CET:20260424T150000
DTEND;TZID=CET:20260424T180000
DESCRIPTION:Tag der offenen Tür an der Sally-Perel-Gesamtschule - Veransta
 ltung
DTSTAMP:20260424T142138Z
GEO:52.2862738,10.5993817
LOCATION:Seikenkamp 10A\, 38104 Braunschweig
SUMMARY:Tag der offenen Tür an der Sally-Perel-Gesamtschule
URL:https://sally-perel-gs.alumnii.de/events/22/
END:VEVENT
END:VCALENDAR
